BEGIN:VCALENDAR
VERSION:2.0
PRODID:-//SETRI - ECPv6.15.11//NONSGML v1.0//EN
CALSCALE:GREGORIAN
METHOD:PUBLISH
X-WR-CALNAME:SETRI
X-ORIGINAL-URL:https://setri.es
X-WR-CALDESC:Eventos para SETRI
REFRESH-INTERVAL;VALUE=DURATION:PT1H
X-Robots-Tag:noindex
X-PUBLISHED-TTL:PT1H
BEGIN:VTIMEZONE
TZID:Europe/Madrid
BEGIN:DAYLIGHT
TZOFFSETFROM:+0100
TZOFFSETTO:+0200
TZNAME:CEST
DTSTART:20230326T010000
END:DAYLIGHT
BEGIN:STANDARD
TZOFFSETFROM:+0200
TZOFFSETTO:+0100
TZNAME:CET
DTSTART:20231029T010000
END:STANDARD
BEGIN:DAYLIGHT
TZOFFSETFROM:+0100
TZOFFSETTO:+0200
TZNAME:CEST
DTSTART:20240331T010000
END:DAYLIGHT
BEGIN:STANDARD
TZOFFSETFROM:+0200
TZOFFSETTO:+0100
TZNAME:CET
DTSTART:20241027T010000
END:STANDARD
BEGIN:DAYLIGHT
TZOFFSETFROM:+0100
TZOFFSETTO:+0200
TZNAME:CEST
DTSTART:20250330T010000
END:DAYLIGHT
BEGIN:STANDARD
TZOFFSETFROM:+0200
TZOFFSETTO:+0100
TZNAME:CET
DTSTART:20251026T010000
END:STANDARD
BEGIN:DAYLIGHT
TZOFFSETFROM:+0100
TZOFFSETTO:+0200
TZNAME:CEST
DTSTART:20260329T010000
END:DAYLIGHT
BEGIN:STANDARD
TZOFFSETFROM:+0200
TZOFFSETTO:+0100
TZNAME:CET
DTSTART:20261025T010000
END:STANDARD
BEGIN:DAYLIGHT
TZOFFSETFROM:+0100
TZOFFSETTO:+0200
TZNAME:CEST
DTSTART:20270328T010000
END:DAYLIGHT
BEGIN:STANDARD
TZOFFSETFROM:+0200
TZOFFSETTO:+0100
TZNAME:CET
DTSTART:20271031T010000
END:STANDARD
END:VTIMEZONE
BEGIN:VEVENT
DTSTART;VALUE=DATE:20260313
DTEND;VALUE=DATE:20260315
DTSTAMP:20260420T152258
CREATED:20251215T091007Z
LAST-MODIFIED:20251215T135025Z
UID:1092-1773360000-1773532799@setri.es
SUMMARY:III JORNADAS NACIONALES SETRI
DESCRIPTION:Es un placer daros la bienvenida a las III Jornadas Nacionales SETRI\, que tendrán lugar los días 13 y 14 de marzo de 2026 en el Palacio de Congresos de Cádiz. \nDesde la Sociedad Española de Rehabilitación Intervencionista hemos preparado un encuentro pensado para el intercambio de conocimiento\, la actualización científica y el refuerzo de la práctica clínica. Durante estas jornadas abordaremos\, de la mano de expertos de referencia\, las técnicas más actuales\, nuevas indicaciones y enfoques prácticos aplicables a nuestro día a día. \nEl programa científico combina mesas de actualización\, conferencias magistrales\, talleres prácticos y espacios de participación activa\, con el objetivo de ofrecer una visión integral. Además\, las jornadas servirán como punto de encuentro para nuestros grupos de trabajo y para compartir experiencias en un entorno cercano y colaborativo. \nCádiz\, con su historia\, su luz y su hospitalidad\, será el marco perfecto para este encuentro científico y humano\, que esperamos resulte tan enriquecedor en lo profesional como en lo personal. \nOs animamos a participar activamente y a disfrutar de estas jornadas\, concebidas para seguir impulsando el desarrollo y la excelencia de la Rehabilitación Intervencionista. \n¡Os esperamos en Cádiz! \nJunta Directiva\nSociedad Española de Rehabilitación Invervencionista \n  \n\nPuedes consultar toda la información de las Jornadas e inscribirte aquí
URL:https://setri.es/evento/iii-jornadas-nacionales-setri/
LOCATION:Palacio de Congresos de Cádiz\, Calle Plocia\, Cádiz\, 11006\, Spain
ATTACH;FMTTYPE=image/png:https://setri.es/wp-content/uploads/2025/12/Imagen-SETRI-2026.png
END:VEVENT
BEGIN:VEVENT
DTSTART;VALUE=DATE:20260123
DTEND;VALUE=DATE:20260125
DTSTAMP:20260420T152258
CREATED:20250516T092948Z
LAST-MODIFIED:20250516T101903Z
UID:1033-1769126400-1769299199@setri.es
SUMMARY:SONOANATOMÍA E INTERVENCIONISMO DE LA COLUMNA VERTEBRAL Y MUSCULATURA DEL TRONCO (10ª EDICIÓN) / AVALADO POR SETRI
DESCRIPTION:Los días 23 y 24 de enero de 2026\, en la facultad de medicina de la Universidad de Girona\, se llevará a cabo el curso de SONOANATOMÍA E INTERVENCIONISMO DE LA COLUMNA VERTEBRAL Y MUSCULATURA DEL TRONCO (10ª EDICIÓN) dirigido por el Dr. Lluis Guirao. \nCurso AVALADO por SETRI. \nInscríbete y consulta el programa del curso aquí.
URL:https://setri.es/evento/sonoanatomia10/
LOCATION:Universidad de Girona. Facultad de Medicina. Girona\, Carrer Emili Grahit\, 77\, 17071\, Girona\, Spain
ATTACH;FMTTYPE=image/jpeg:https://setri.es/wp-content/uploads/2025/05/PROGRAMA.jpg
END:VEVENT
BEGIN:VEVENT
DTSTART;VALUE=DATE:20251127
DTEND;VALUE=DATE:20251129
DTSTAMP:20260420T152258
CREATED:20250714T082849Z
LAST-MODIFIED:20251215T084441Z
UID:1059-1764201600-1764374399@setri.es
SUMMARY:BOOTCAMP SETRI 2025
DESCRIPTION:Los próximos 27 y 28 de noviembre\, Zaragoza acogerá una nueva edición del BOOTCAMP SETRI\, una formación intensiva y práctica dirigida a profesionales interesados en la Rehabilitación Intervencionista. Este año\, como novedad\, ofreceremos dos programas paralelos adaptados a distintos niveles de experiencia: básico y avanzado. \nUn evento pensado para aprender\, compartir y mejorar las competencias técnicas en un formato dinámico y cercano\, con grupos reducidos que garantizan la participación activa y el aprovechamiento máximo. \nOs esperamos a todos en BOOT CAMP SETRI 2025\, una oportunidad única para vivir una formación diferente\, práctica y especializada. \n¡Nos vemos en noviembre en Zaragoza!
URL:https://setri.es/evento/bootcamp-setri-2025/
ATTACH;FMTTYPE=image/png:https://setri.es/wp-content/uploads/2025/12/Imagen-Boot-Camp-SETRI-2025.png
END:VEVENT
BEGIN:VEVENT
DTSTART;TZID=Europe/Madrid:20250314T080000
DTEND;TZID=Europe/Madrid:20250315T170000
DTSTAMP:20260420T152258
CREATED:20241126T121423Z
LAST-MODIFIED:20241126T121831Z
UID:1022-1741939200-1742058000@setri.es
SUMMARY:II Jornadas Nacionales SETRI
DESCRIPTION:Los días 14 y 15 de marzo de 2025\, en el Parador de Segovia\, se llevará a cabo las II Jornadas Nacionales de la Sociedad Española de Rehabilitación Intervencionista. \nInscríbete y consulta el programa de las Jornada aquí.
URL:https://setri.es/evento/ii-jornadas-nacionales-setri/
LOCATION:Parador de Segovia\, Ctra. de Valladolid\, s/n\, 40003 Segovia\, Segovia\, Segovia\, 40003\, Spain
ATTACH;FMTTYPE=image/png:https://setri.es/wp-content/uploads/2024/11/400x400-save-the-date.png
ORGANIZER;CN="Sociedad Espa%C3%B1ola de Rehabilitaci%C3%B3n Intervencionista":MAILTO:info@setri.es
END:VEVENT
BEGIN:VEVENT
DTSTART;TZID=Europe/Madrid:20241129T150000
DTEND;TZID=Europe/Madrid:20241130T140000
DTSTAMP:20260420T152258
CREATED:20240923T114806Z
LAST-MODIFIED:20240923T114806Z
UID:955-1732892400-1732975200@setri.es
SUMMARY:BOOTCAMP BCN 2024
DESCRIPTION:
URL:https://setri.es/evento/bootcamp-bcn-2024/
LOCATION:Hotel Catalonia Barcelona 505\, C/ de Muntaner\, 505. Sarrià-Sant Gervas1\, Barcelona\, 08022\, Spain
ATTACH;FMTTYPE=image/jpeg:https://setri.es/wp-content/uploads/2024/09/400pxBoot.jpg
END:VEVENT
BEGIN:VEVENT
DTSTART;VALUE=DATE:20240614
DTEND;VALUE=DATE:20240616
DTSTAMP:20260420T152258
CREATED:20240322T060741Z
LAST-MODIFIED:20240731T115244Z
UID:406-1718323200-1718495999@setri.es
SUMMARY:I Jornada Nacional Técnicas Intervencionistas en Miembro Superior
DESCRIPTION:Después de años como grupo de trabajo\, llega LA PRIMERA JORNADA DE LA NUEVA SOCIEDAD ESPAÑOLA DE REHABILITACIÓN INTERVENCIONISTA. \nInscripciones presenciales cerradas\, abierta inscripción online. \nEnlaces: \n\n\n\nPrograma de la I jornada\nInformación de interés de la I Jornada\nInscripciones Online\nLibro de Resúmenes de Comunicaciones\n\n\n\n 
URL:https://setri.es/evento/i-jornada-nacional-tecnicas-intervencionistas-en-miembro-superior/
LOCATION:Edificio «EL SEMINARIO»\, Carrer de Sant Pau\, 4\, Tarragona\, 43003\, España
ATTACH;FMTTYPE=image/png:https://setri.es/wp-content/uploads/2023/09/Captura-de-pantalla-2024-03-12-144348.png
END:VEVENT
END:VCALENDAR