BEGIN:VCALENDAR
VERSION:2.0
PRODID:-//SETRI - ECPv6.15.11//NONSGML v1.0//EN
CALSCALE:GREGORIAN
METHOD:PUBLISH
X-ORIGINAL-URL:https://setri.es
X-WR-CALDESC:Eventos para SETRI
REFRESH-INTERVAL;VALUE=DURATION:PT1H
X-Robots-Tag:noindex
X-PUBLISHED-TTL:PT1H
BEGIN:VTIMEZONE
TZID:Europe/Madrid
BEGIN:DAYLIGHT
TZOFFSETFROM:+0100
TZOFFSETTO:+0200
TZNAME:CEST
DTSTART:20240331T010000
END:DAYLIGHT
BEGIN:STANDARD
TZOFFSETFROM:+0200
TZOFFSETTO:+0100
TZNAME:CET
DTSTART:20241027T010000
END:STANDARD
BEGIN:DAYLIGHT
TZOFFSETFROM:+0100
TZOFFSETTO:+0200
TZNAME:CEST
DTSTART:20250330T010000
END:DAYLIGHT
BEGIN:STANDARD
TZOFFSETFROM:+0200
TZOFFSETTO:+0100
TZNAME:CET
DTSTART:20251026T010000
END:STANDARD
BEGIN:DAYLIGHT
TZOFFSETFROM:+0100
TZOFFSETTO:+0200
TZNAME:CEST
DTSTART:20260329T010000
END:DAYLIGHT
BEGIN:STANDARD
TZOFFSETFROM:+0200
TZOFFSETTO:+0100
TZNAME:CET
DTSTART:20261025T010000
END:STANDARD
END:VTIMEZONE
BEGIN:VEVENT
DTSTART;VALUE=DATE:20251127
DTEND;VALUE=DATE:20251129
DTSTAMP:20260422T184026
CREATED:20250714T082849Z
LAST-MODIFIED:20251215T084441Z
UID:1059-1764201600-1764374399@setri.es
SUMMARY:BOOTCAMP SETRI 2025
DESCRIPTION:Los próximos 27 y 28 de noviembre\, Zaragoza acogerá una nueva edición del BOOTCAMP SETRI\, una formación intensiva y práctica dirigida a profesionales interesados en la Rehabilitación Intervencionista. Este año\, como novedad\, ofreceremos dos programas paralelos adaptados a distintos niveles de experiencia: básico y avanzado. \nUn evento pensado para aprender\, compartir y mejorar las competencias técnicas en un formato dinámico y cercano\, con grupos reducidos que garantizan la participación activa y el aprovechamiento máximo. \nOs esperamos a todos en BOOT CAMP SETRI 2025\, una oportunidad única para vivir una formación diferente\, práctica y especializada. \n¡Nos vemos en noviembre en Zaragoza!
URL:https://setri.es/evento/bootcamp-setri-2025/
ATTACH;FMTTYPE=image/png:https://setri.es/wp-content/uploads/2025/12/Imagen-Boot-Camp-SETRI-2025.png
END:VEVENT
END:VCALENDAR